BEGIN:VCALENDAR
VERSION:2.0
PRODID:-//Weingut Sommer Hambach - ECPv6.15.14//NONSGML v1.0//EN
CALSCALE:GREGORIAN
METHOD:PUBLISH
X-ORIGINAL-URL:https://sommer.wine
X-WR-CALDESC:Veranstaltungen für Weingut Sommer Hambach
REFRESH-INTERVAL;VALUE=DURATION:PT1H
X-Robots-Tag:noindex
X-PUBLISHED-TTL:PT1H
BEGIN:VTIMEZONE
TZID:Europe/Helsinki
BEGIN:DAYLIGHT
TZOFFSETFROM:+0200
TZOFFSETTO:+0300
TZNAME:EEST
DTSTART:20230326T010000
END:DAYLIGHT
BEGIN:STANDARD
TZOFFSETFROM:+0300
TZOFFSETTO:+0200
TZNAME:EET
DTSTART:20231029T010000
END:STANDARD
BEGIN:DAYLIGHT
TZOFFSETFROM:+0200
TZOFFSETTO:+0300
TZNAME:EEST
DTSTART:20240331T010000
END:DAYLIGHT
BEGIN:STANDARD
TZOFFSETFROM:+0300
TZOFFSETTO:+0200
TZNAME:EET
DTSTART:20241027T010000
END:STANDARD
BEGIN:DAYLIGHT
TZOFFSETFROM:+0200
TZOFFSETTO:+0300
TZNAME:EEST
DTSTART:20250330T010000
END:DAYLIGHT
BEGIN:STANDARD
TZOFFSETFROM:+0300
TZOFFSETTO:+0200
TZNAME:EET
DTSTART:20251026T010000
END:STANDARD
END:VTIMEZONE
BEGIN:VEVENT
DTSTART;TZID=Europe/Helsinki:20241206T150000
DTEND;TZID=Europe/Helsinki:20241206T210000
DTSTAMP:20260419T174651
CREATED:20241126T192455Z
LAST-MODIFIED:20241126T192457Z
UID:7912-1733497200-1733518800@sommer.wine
SUMMARY:Weihnachtsmarkt im Rathaushof in Limbach-Oberfrohna
DESCRIPTION:
URL:https://sommer.wine/event/weihnachtsmarkt-im-rathaushof-in-limbach-oberfrohna/
CATEGORIES:Veranstaltung mit Wein
END:VEVENT
END:VCALENDAR